BEGIN:VCALENDAR
VERSION:2.0
PRODID:-//wp-events-plugin.com//7.2.3.1//EN
TZID:Europe/Amsterdam
X-WR-TIMEZONE:Europe/Amsterdam
BEGIN:VEVENT
UID:22@toneelverenigingmaghetlichtuit.nl
DTSTART;TZID=Europe/Amsterdam:20230324T200000
DTEND;TZID=Europe/Amsterdam:20230324T223000
DTSTAMP:20231128T102932Z
URL:https://toneelverenigingmaghetlichtuit.nl/events/voorstelling-3/
SUMMARY:Derde Voorstelling 2023
DESCRIPTION:‘Tortelduifjes en Ouwe Kraaien’: het verhaal\nRegie: Karin
  van Elteren\; Auteur: Mauritz Keyzer\n\n&nbsp\;
LOCATION:Het Turfschip\, Schipperstraat 2\, Etten-Leur\, Noord-Brabant\, 48
 71 KK\, Nederland
X-APPLE-STRUCTURED-LOCATION;VALUE=URI;X-ADDRESS=Schipperstraat 2\, Etten-Le
 ur\, Noord-Brabant\, 4871 KK\, Nederland;X-APPLE-RADIUS=100;X-TITLE=Het Tu
 rfschip:geo:0,0
END:VEVENT
BEGIN:VTIMEZONE
TZID:Europe/Amsterdam
X-LIC-LOCATION:Europe/Amsterdam
BEGIN:STANDARD
DTSTART:20221030T020000
TZOFFSETFROM:+0200
TZOFFSETTO:+0100
TZNAME:CET
END:STANDARD
END:VTIMEZONE
END:VCALENDAR